BEGIN:VCALENDAR
VERSION:2.0
PRODID:-//eventon.com NONSGML v1.0//EN
CALSCALE:GREGORIAN
METHOD:PUBLISH
BEGIN:VEVENT
UID:69e7c9bd1f1eb
DTSTAMP:20260421T190221Z
DTSTART:20240616
DTEND:20240617
LOCATION:
SUMMARY:Camp St. Mary (Wingmann) - Incoming 3rd - 5th graders
DESCRIPTION:Full tuition: $525 (Scholarships may be available.) Camp Wingma
 nn invites you to one of the most energetic Summer Camps ever! Located in s
 unny\,  Central Florida\,  we have the best backyard to make your summer ex
 perience one to remember. No matter which direction you’re coming from\, 
  Wingmann is an easy destination[..]\nhttps://www.stedwardsepiscopal.com/ev
 ents/camp-st-mary-wingmann-incoming-3rd-5th-graders-2024/
URL:https://www.stedwardsepiscopal.com/events/camp-st-mary-wingmann-incoming-3rd-5th-graders-2024/
END:VEVENT
END:VCALENDAR