BEGIN:VCALENDAR
VERSION:2.0
PRODID:-//eventon.com NONSGML v1.0//EN
CALSCALE:GREGORIAN
METHOD:PUBLISH
BEGIN:VEVENT
UID:69e632fc01c02
DTSTAMP:20260420T140652Z
DTSTART:20240915T010000Z
DTEND:20240914T190000Z
LOCATION:
SUMMARY:Confirmation Class
DESCRIPTION:With the Bishop of the Diocese of Central Florida visiting in m
 id-October\,  we will have an opportunity for the sacrament of confirmation
  at our church. One of the requirements for confirmation is the completion 
 of the confirmation class. If you are interested in pursuing confirmation i
 n the Episcopal Church\,  join[..]\nhttps://www.stedwardsepiscopal.com/even
 ts/confirmation-class-sept21/
URL:https://www.stedwardsepiscopal.com/events/confirmation-class-sept21/
END:VEVENT
END:VCALENDAR