BEGIN:VCALENDAR
VERSION:2.0
PRODID:-//eventon.com NONSGML v1.0//EN
CALSCALE:GREGORIAN
METHOD:PUBLISH
BEGIN:VEVENT
UID:69ea80d7a1dda
DTSTAMP:20260423T202807Z
DTSTART:20250124T200000Z
DTEND:20250125T070000Z
LOCATION:
SUMMARY:EYC @ Rock the Universe
DESCRIPTION:Rock the Universe is an unforgettable weekend of faith and fun.
  Experience two nights of powerful tunes from Christian Music’s brightest
  stars and mind-blowing rides at Universal Studios Florida. We'll be attend
 ing just the Friday night portion of the weekend. Cost: $85 (IMPORTANT: Tic
 kets must be purchased by Monday\,  January[..]\nhttps://www.stedwardsepisc
 opal.com/events/eyc-rock-the-universe-2025/
URL:https://www.stedwardsepiscopal.com/events/eyc-rock-the-universe-2025/
END:VEVENT
END:VCALENDAR