BEGIN:VCALENDAR
VERSION:2.0
PRODID:-//eventon.com NONSGML v1.0//EN
CALSCALE:GREGORIAN
METHOD:PUBLISH
BEGIN:VEVENT
UID:69e69e78e6d5d
DTSTAMP:20260420T214528Z
DTSTART:20241011T190000Z
DTEND:20241011T230000Z
LOCATION:
SUMMARY:Pumpkin Patch Service Project
DESCRIPTION:We are working at the East Lake Country Chamber of Commerce (in
  Sorrento) for a couple shifts selling the pumpkins. This is also a sort of
  fundraiser for us\,  as we actually earn a portion of the sales. Our prima
 ry purpose is to work the sales table and help sell[..]\nhttps://www.stedwa
 rdsepiscopal.com/events/pumpkin-patch-service-project-1/
URL:https://www.stedwardsepiscopal.com/events/pumpkin-patch-service-project-1/
END:VEVENT
END:VCALENDAR