BEGIN:VCALENDAR
VERSION:2.0
PRODID:-//eventon.com NONSGML v1.0//EN
CALSCALE:GREGORIAN
METHOD:PUBLISH
BEGIN:VEVENT
UID:69e4ea834dc3c
DTSTAMP:20260419T144523Z
DTSTART:20221224T230000Z
DTEND:20221225T040000Z
LOCATION:
SUMMARY:Christmas Eve Worship
DESCRIPTION:6:00 pm Family Worship In-Person and Live Streamed 9:00 pm Less
 ons and Carols 10:00 pm Rite II Worship with Organ & Choir with Incense\nht
 tps://www.stedwardsepiscopal.com/events/christmas-eve-worship/
URL:https://www.stedwardsepiscopal.com/events/christmas-eve-worship/
END:VEVENT
END:VCALENDAR