BEGIN:VCALENDAR
VERSION:2.0
PRODID:-//eventon.com NONSGML v1.0//EN
CALSCALE:GREGORIAN
METHOD:PUBLISH
BEGIN:VEVENT
UID:69e6b12853d40
DTSTAMP:20260420T230512Z
DTSTART:20230221T230000Z
DTEND:20230222T003000Z
LOCATION:
SUMMARY:Shrove Tuesday Youth Pancake Dinner Fundraiser
DESCRIPTION:As we prepare for Ash Wednesday and the start of Lent\,  St. Ed
 ward's Episcopal Youth Community (EYC) is hosting a pancake dinner in the c
 hurch's Hartridge Hall. Dinners will be available for dine-in or take-out w
 ith a suggested donation of $10 per person. This is a fundraiser for the EY
 C[..]\nhttps://www.stedwardsepiscopal.com/events/shrove-tuesday-youth-panca
 ke-dinner-fundraiser/
URL:https://www.stedwardsepiscopal.com/events/shrove-tuesday-youth-pancake-dinner-fundraiser/
END:VEVENT
END:VCALENDAR