BEGIN:VCALENDAR
VERSION:2.0
PRODID:-//eventon.com NONSGML v1.0//EN
CALSCALE:GREGORIAN
METHOD:PUBLISH
BEGIN:VEVENT
UID:69e8ea96c0ce2
DTSTAMP:20260422T153446Z
DTSTART:20230604
DTEND:20230605
LOCATION:
SUMMARY:Camp St. Mark (Wingmann) - Incoming 9 - 12th graders
DESCRIPTION:Full tuition: $495 (Scholarships may be available.) https://www
 .youtube.com/watch?v=PgW95_9LNTQ Camp Wingmann invites you to one of the mo
 st energetic Summer Camps ever! Located in sunny\,  Central Florida\,  we h
 ave the best backyard to make your summer experience one to remember. No ma
 tter which direction you’re coming from\,  Wingmann is an easy[..]\nhttps
 ://www.stedwardsepiscopal.com/events/camp-st-mark-wingmann-incoming-9-12th-
 graders/
URL:https://www.stedwardsepiscopal.com/events/camp-st-mark-wingmann-incoming-9-12th-graders/
END:VEVENT
END:VCALENDAR