BEGIN:VCALENDAR
VERSION:2.0
PRODID:-//eventon.com NONSGML v1.0//EN
CALSCALE:GREGORIAN
METHOD:PUBLISH
BEGIN:VEVENT
UID:69eadacbb34aa
DTSTAMP:20260424T025155Z
DTSTART:20230407T160000Z
DTEND:20230407T230000Z
LOCATION:
SUMMARY:Holy Week - Good Friday
DESCRIPTION:You are invited for Veneration of the Cross at 12:00 Noon Sever
  Last Words at 1:00 Noon Stations of the Cross at 2:00 and 6:00 Noon\nhttps
 ://www.stedwardsepiscopal.com/events/holy-week-good-friday/
URL:https://www.stedwardsepiscopal.com/events/holy-week-good-friday/
END:VEVENT
END:VCALENDAR