BEGIN:VCALENDAR
VERSION:2.0
PRODID:-//eventon.com NONSGML v1.0//EN
CALSCALE:GREGORIAN
METHOD:PUBLISH
BEGIN:VEVENT
UID:69eadc9ecb933
DTSTAMP:20260424T025942Z
DTSTART:20230423T160000Z
DTEND:20230423T180000Z
LOCATION:
SUMMARY:Movie Day @ EYC: Amazing Grace
DESCRIPTION:Pizza\,  popcorn\,  and a movie! We'll be watching Amazing Grac
 e (movie) for our EYC meeting this weekend. So come ready to just kick back
  and enjoy the show! Synopsis: The idealist William Wilberforce (Ioan Gruff
 udd) maneuvers his way through Parliament\,  endeavoring to end the British
  transatlantic slave trade. https://www.youtube.com/watch?v=Q6Cv5P9H9qU\nht
 tps://www.stedwardsepiscopal.com/events/movie-day-eyc-amazing-grace/
URL:https://www.stedwardsepiscopal.com/events/movie-day-eyc-amazing-grace/
END:VEVENT
END:VCALENDAR