BEGIN:VCALENDAR
VERSION:2.0
PRODID:-//eventon.com NONSGML v1.0//EN
CALSCALE:GREGORIAN
METHOD:PUBLISH
BEGIN:VEVENT
UID:69e7aa1401eb5
DTSTAMP:20260421T164716Z
DTSTART:20231031T213000Z
DTEND:20231101T010000Z
LOCATION:
SUMMARY:All Hallows' Eve Family Cookout (and Trick-or-Treating)
DESCRIPTION:Come early for simple cookout dinner... the King's will grill h
 ot dogs\,  and provide condiments\,  chips\,  and drinks. Bring a bag of ca
 ndy to stock the buckets for giving out to visiting trick-or-treaters\,  an
 d the kids can walk the neighborhood to collect their goodies.\nhttps://www
 .stedwardsepiscopal.com/events/all-hallows-eve-family-cookout-and-trick-or-
 treating-2/
URL:https://www.stedwardsepiscopal.com/events/all-hallows-eve-family-cookout-and-trick-or-treating-2/
END:VEVENT
END:VCALENDAR