BEGIN:VCALENDAR
VERSION:2.0
PRODID:-//eventon.com NONSGML v1.0//EN
CALSCALE:GREGORIAN
METHOD:PUBLISH
BEGIN:VEVENT
UID:69e6f7e44e99a
DTSTAMP:20260421T040700Z
DTSTART:20240213T230000Z
DTEND:20240214T003000Z
LOCATION:
SUMMARY:Shrove Tuesday Youth Pancake Dinner Fundraiser
DESCRIPTION:As we prepare for Ash Wednesday and the start of Lent\,  St. Ed
 ward's Episcopal Youth Community (EYC) is hosting a pancake dinner in the c
 hurch's Hartridge Hall. Dinners will be available for dine-in or take-out w
 ith a suggested donation of $10 per person. This is a fundraiser for the EY
 C[..]\nhttps://www.stedwardsepiscopal.com/events/shrove-tuesday-youth-panca
 ke-dinner-fundraiser-2024/
URL:https://www.stedwardsepiscopal.com/events/shrove-tuesday-youth-pancake-dinner-fundraiser-2024/
END:VEVENT
END:VCALENDAR