BEGIN:VCALENDAR
VERSION:2.0
PRODID:-//eventon.com NONSGML v1.0//EN
CALSCALE:GREGORIAN
METHOD:PUBLISH
BEGIN:VEVENT
UID:69e5d2d67b947
DTSTAMP:20260420T071638Z
DTSTART:20231203T170000Z
DTEND:20231203T190000Z
LOCATION:
SUMMARY:Advent Prayer Odyssey
DESCRIPTION:This is a prayer station experience where students will encount
 er praying in a unique way. An odyssey is a journey where a person is tryin
 g to reach a destination but encounters trials and experiences that shape t
 hem. The end of the journey is not the goal; it’s everything that happens
 [..]\nhttps://www.stedwardsepiscopal.com/events/advent-prayer-odyssey/
URL:https://www.stedwardsepiscopal.com/events/advent-prayer-odyssey/
END:VEVENT
END:VCALENDAR